BEGIN:VCALENDAR
VERSION:2.0
PRODID:-//Lietuvos sporto universitetas - ECPv4.6.10//NONSGML v1.0//EN
CALSCALE:GREGORIAN
METHOD:PUBLISH
X-WR-CALNAME:Lietuvos sporto universitetas
X-ORIGINAL-URL:https://www.lsu.lt
X-WR-CALDESC:Renginiai nuo Lietuvos sporto universitetas
BEGIN:VEVENT
DTSTART;TZID=UTC+2:20260408T140000
DTEND;TZID=UTC+2:20260408T153000
DTSTAMP:20260419T213239
CREATED:20260403T094726Z
LAST-MODIFIED:20260403T094726Z
UID:142112-1775656800-1775662200@www.lsu.lt
SUMMARY:Stiprios kartos pradžia – žingsnis į stipresnę Lietuvą!
DESCRIPTION:Lietuvos sporto universitetas (LSU) kviečia dalyvauti Generolo Povilo Plechavičiaus fizinio parengtumo ženklo pilotinio projekto pristatymo renginyje\, kuris vyks balandžio 8 d. (trečiadienį) 14 val. LSU A. Stanislovaičio lengvosios atletikos manieže\, Aušros g. 42\, Kaunas. \nŠis projektas yra nacionalinio masto iniciatyva\, skirta mokinių fizinio pajėgumo vertinimo sistemai kurti ir validuoti realiomis mokyklų sąlygomis.\nProjekte dalyvauja daugiau nei 10 bendrojo ugdymo mokyklų\, o pilotinio tyrimo metu planuojama įvertinti apie 1500 mokinių fizinį pajėgumą. \nFizinis pajėgumas vaikystėje ir paauglystėje yra vienas svarbiausių sveikatos\, fizinio aktyvumo ir funkcinio pajėgumo rodiklių\, turintis ilgalaikę reikšmę tiek visuomenės sveikatai\, tiek valstybės fiziniam potencialui. Todėl sisteminis\, moksliškai pagrįstas fizinio pajėgumo vertinimas mokyklose yra svarbus žingsnis stiprinant visuomenės sveikatą ir kuriant ilgalaikę fizinio pajėgumo stebėsenos sistemą Lietuvoje. \nAtidarymo renginio metu vyks testavimas. Jame dalyvaus Lietuvos sporto universiteto rektorė prof. Diana Rėklaitienė\, Lietuvos Respublikos krašto apsaugos viceministras Tomas Godliauskas\, Generolo Povilo Plechavičiaus kadetų licėjaus direktorius Ričardas Žilaitis bei 20 kadetų\, taip pabrėžiant lyderystės ir pavyzdžio svarbą jaunajai kartai. \nDaugiau apie pilotinį projektą \n
URL:https://www.lsu.lt/ivykis/stiprios-kartos-pradzia-zingsnis-i-stipresne-lietuva/
CATEGORIES:Kita
ATTACH;FMTTYPE=image/jpeg:https://www.lsu.lt/wp-content/uploads/2026/04/LSU_2026_projektai_Plechaviciaus-parengtumo-zenklas_Svetaine-naujienos-1.jpg
END:VEVENT
END:VCALENDAR