BEGIN:VCALENDAR
VERSION:2.0
PRODID:-//Lietuvos sporto universitetas - ECPv4.6.10//NONSGML v1.0//EN
CALSCALE:GREGORIAN
METHOD:PUBLISH
X-WR-CALNAME:Lietuvos sporto universitetas
X-ORIGINAL-URL:https://www.lsu.lt
X-WR-CALDESC:Renginiai nuo Lietuvos sporto universitetas
BEGIN:VEVENT
DTSTART;TZID=UTC+2:20260331T180000
DTEND;TZID=UTC+2:20260331T190000
DTSTAMP:20260420T103150
CREATED:20260322T203725Z
LAST-MODIFIED:20260327T125242Z
UID:141887-1774980000-1774983600@www.lsu.lt
SUMMARY:Atvira paskaita „Be įkvėpimo nėra plaukimo“
DESCRIPTION:Kovo 31 d. (antradienį) 18:00-19:00 val. Lietuvos sporto universiteto Centrinių rūmų (Sporto g. 6) 215 auditorijoje vyks atvira paskaita „Be įkvėpimo nėra plaukimo“\, kurią ves dr. Birutė Statkevičienė OLY\, Miuncheno olimpinių žaidynių dalyvė\,  Lietuvos sporto universiteto (LSU) Treniravimo mokslų katedros socialinių mokslų daktarė\, docentė\, Lietuvos olimpiečių asociacijos viceprezidentė. \nKviečiame registruotis į šią ir kitas atviras paskaitas! \n  \n
URL:https://www.lsu.lt/ivykis/atvira-paskaita-be-ikvepimo-nera-plaukimo/
CATEGORIES:Paskaita
ATTACH;FMTTYPE=image/jpeg:https://www.lsu.lt/wp-content/uploads/2020/06/plaukimas-scaled-e1614336217984.jpg
END:VEVENT
END:VCALENDAR