BEGIN:VCALENDAR
VERSION:2.0
PRODID:-//Lietuvos sporto universitetas - ECPv4.6.10//NONSGML v1.0//EN
CALSCALE:GREGORIAN
METHOD:PUBLISH
X-WR-CALNAME:Lietuvos sporto universitetas
X-ORIGINAL-URL:https://www.lsu.lt
X-WR-CALDESC:Renginiai nuo Lietuvos sporto universitetas
BEGIN:VEVENT
DTSTART;TZID=UTC+2:20260316T100000
DTEND;TZID=UTC+2:20260317T170000
DTSTAMP:20260421T094634
CREATED:20260322T201627Z
LAST-MODIFIED:20260322T201627Z
UID:141879-1773655200-1773766800@www.lsu.lt
SUMMARY:2-oji tarptautinė konferencija „Rehabilitation and Health Promotion: Future Perspectives”
DESCRIPTION:2026 m. balandžio 16–17 d. Lietuvos sporto universitete vyks 2-oji tarptautinė konferencija „Rehabilitation and Health Promotion: Future Perspectives”. \nDaugiau informacijos apie konferenciją: https://www.lsu.lt/international-conference-rehabilitation-and-health-promotion-future-perspectives-2026/ \n
URL:https://www.lsu.lt/ivykis/2-oji-tarptautine-konferencija-rehabilitation-and-health-promotion-future-perspectives/
CATEGORIES:Konferencija
ATTACH;FMTTYPE=image/jpeg:https://www.lsu.lt/wp-content/uploads/2019/04/kineziterapija_1000-e1709222152646.jpg
END:VEVENT
BEGIN:VEVENT
DTSTART;TZID=UTC+2:20260317T180000
DTEND;TZID=UTC+2:20260317T190000
DTSTAMP:20260421T094634
CREATED:20260202T125641Z
LAST-MODIFIED:20260202T125700Z
UID:139955-1773770400-1773774000@www.lsu.lt
SUMMARY:Atvira E. Tombak paskaita „Priekaištai senėjimui ir amžėjimo pranašumai“
DESCRIPTION:Kovo 17 d. (antradienį) 18 val. Centrinių rūmų (Sporto g. 6) 215 auditorijoje  kviečiame į paskaitą „Priekaištai senėjimui ir amžėjimo pranašumai“. Lektorė Eva Tombak – žurnalistė\, rašytoja\, dešimties knygų autorė\, žurnalų „Cosmopolitan“ ir „IEVA“ įkūrėja\, lektorė ir jogos mokytoja (joga orientuota senjorams – sąnarių ir hormonų jogos praktikos). \nRegistracija į šią ir kitas atviras paskaitas \nATVIRŲ PASKAITŲ TVARKARAŠTIS\nPaskaitos vyks Lietuvos sporto universiteto Centrinių rūmų (Sporto g. 6) 215 auditorijoje 18:00–19:00 val. \n\n\n\n\n\n\n\n\nDATA\nTEMA\nLEKTORIUS\n\n\nBalandžio 14 d. \n18:00–19:00 val.\n„Gyvename su artritu – ką turime žinoti“\nDr. Kristina Visagurskienė\nLSU lektorė\, nacionalinių ir tarptautinių projektų dalyvė\, vadovėlio „Fizinis aktyvumas ir sveikata“ (2021) bendraautorė\, LSU TAU veiklų koordinatorė\, Nirvana fitness instruktorė\n\n\nBalandžio 28 d. \n18:00–19:00 val.\nAtvira paskaita visiems norintiems „Griaunam stereotipus! Nėštumas ir mankšta: priešai ar draugai?“\nDoc. dr. Simona Pajaujienė\nLSU docentė\, nacionalinių ir tarptautinių mokslo ir kitų projektų dalyvė\, tarptautinių mokslo publikacijų bendraautorė\, vadovėlio „Fizinis aktyvumas ir sveikata“ (2021) bendraautorė\,  „EuropeActive“ techninių ekspertų grupių narė\, sveikatingumo trenerė\, motyvatorė\, TV ir radijo laidų dalyvė\, kviestinė pranešėja įvairiuose Lietuvos ir tarptautiniuose sporto\, laisvalaikio bei visuomenės sveikatos renginiuose\, konferencijose ir seminaruose\, Nirvana fitness mokymų koordinatorė Lietuvoje\n\n\nGegužės 12 d. \n18:00-19:00 val.\n„Sensorika – jos reikšmė kasdieniame gyvenime“\nDr. Kristina Visagurskienė\nLSU lektorė\, nacionalinių ir tarptautinių projektų dalyvė\, vadovėlio „Fizinis aktyvumas ir sveikata“ (2021) bendraautorė\, LSU TAU veiklų koordinatorė\, Nirvana fitness instruktorė\n\n\n\n*Renginių metu bus fotografuojama ar filmuojama. Informuojame\, kad Jūs galite būti matomi renginio nuotraukose / vaizdo įrašuose\, kurie bus skelbiami įvairiose LSU ar kitose medijos priemonėse. \n
URL:https://www.lsu.lt/ivykis/atvira-e-tombak-paskaita-priekaistai-senejimui-ir-amzejimo-pranasumai/
CATEGORIES:Paskaita
ATTACH;FMTTYPE=image/jpeg:https://www.lsu.lt/wp-content/uploads/2022/04/Senjorai.jpg
END:VEVENT
END:VCALENDAR