BEGIN:VCALENDAR
VERSION:2.0
PRODID:-//Lietuvos sporto universitetas - ECPv4.6.10//NONSGML v1.0//EN
CALSCALE:GREGORIAN
METHOD:PUBLISH
X-WR-CALNAME:Lietuvos sporto universitetas
X-ORIGINAL-URL:https://www.lsu.lt
X-WR-CALDESC:Renginiai nuo Lietuvos sporto universitetas
BEGIN:VEVENT
DTSTART;TZID=UTC+2:20260310T180000
DTEND;TZID=UTC+2:20260310T190000
DTSTAMP:20260421T203844
CREATED:20260202T124125Z
LAST-MODIFIED:20260202T125723Z
UID:139946-1773165600-1773169200@www.lsu.lt
SUMMARY:Atvira E. Tombak paskaita „Tėvų ir suaugusių vaikų nesusikalbėjimas“
DESCRIPTION:Kovo 10 d. (antradienį) 18 val. Centrinių rūmų (Sporto g. 6) 215 auditorijoje  kviečiame į paskaitą „Tėvų ir suaugusių vaikų nesusikalbėjimas“. Lektorė Eva Tombak – žurnalistė\, rašytoja\, dešimties knygų autorė\, žurnalų „Cosmopolitan“ ir „IEVA“ įkūrėja\, lektorė ir jogos mokytoja (joga orientuota senjorams – sąnarių ir hormonų jogos praktikos). \nRegistracija į šią ir kitas atviras paskaitas \nATVIRŲ PASKAITŲ TVARKARAŠTIS\nPaskaitos vyks Lietuvos sporto universiteto Centrinių rūmų (Sporto g. 6) 215 auditorijoje 18:00–19:00 val. \n\n\n\n\n\n\n\n\nDATA\nTEMA\nLEKTORIUS\n\n\nKovo 17 d. \n18:00–19:00 val.\n„Priekaištai senėjimui ir amžėjimo pranašumai“\nEva Tombak\nŽurnalistė\, rašytoja\, dešimties knygų autorė\, žurnalų „Cosmopolitan“ ir „IEVA“ įkūrėja\, lektorė ir jogos mokytoja (joga orientuota senjorams – sąnarių ir hormonų jogos praktikos)\n\n\nBalandžio 14 d. \n18:00–19:00 val.\n„Gyvename su artritu – ką turime žinoti“\nDr. Kristina Visagurskienė\nLSU lektorė\, nacionalinių ir tarptautinių projektų dalyvė\, vadovėlio „Fizinis aktyvumas ir sveikata“ (2021) bendraautorė\, LSU TAU veiklų koordinatorė\, Nirvana fitness instruktorė\n\n\nBalandžio 28 d. \n18:00–19:00 val.\nAtvira paskaita visiems norintiems „Griaunam stereotipus! Nėštumas ir mankšta: priešai ar draugai?“\nDoc. dr. Simona Pajaujienė\nLSU docentė\, nacionalinių ir tarptautinių mokslo ir kitų projektų dalyvė\, tarptautinių mokslo publikacijų bendraautorė\, vadovėlio „Fizinis aktyvumas ir sveikata“ (2021) bendraautorė\,  „EuropeActive“ techninių ekspertų grupių narė\, sveikatingumo trenerė\, motyvatorė\, TV ir radijo laidų dalyvė\, kviestinė pranešėja įvairiuose Lietuvos ir tarptautiniuose sporto\, laisvalaikio bei visuomenės sveikatos renginiuose\, konferencijose ir seminaruose\, Nirvana fitness mokymų koordinatorė Lietuvoje\n\n\nGegužės 12 d. \n18:00-19:00 val.\n„Sensorika – jos reikšmė kasdieniame gyvenime“\nDr. Kristina Visagurskienė\nLSU lektorė\, nacionalinių ir tarptautinių projektų dalyvė\, vadovėlio „Fizinis aktyvumas ir sveikata“ (2021) bendraautorė\, LSU TAU veiklų koordinatorė\, Nirvana fitness instruktorė\n\n\n\n*Renginių metu bus fotografuojama ar filmuojama. Informuojame\, kad Jūs galite būti matomi renginio nuotraukose / vaizdo įrašuose\, kurie bus skelbiami įvairiose LSU ar kitose medijos priemonėse. \n
URL:https://www.lsu.lt/ivykis/atvira-paskaita-tevu-ir-suaugusiu-vaiku-nesusikalbejimas/
CATEGORIES:Paskaita
ATTACH;FMTTYPE=image/png:https://www.lsu.lt/wp-content/uploads/2025/09/LSU_biblioteka_nuotrauka_2.png
END:VEVENT
END:VCALENDAR