BEGIN:VCALENDAR
VERSION:2.0
PRODID:-//Lietuvos sporto universitetas - ECPv4.6.10//NONSGML v1.0//EN
CALSCALE:GREGORIAN
METHOD:PUBLISH
X-WR-CALNAME:Lietuvos sporto universitetas
X-ORIGINAL-URL:https://www.lsu.lt
X-WR-CALDESC:Renginiai nuo Lietuvos sporto universitetas
BEGIN:VEVENT
DTSTART;TZID=UTC+2:20260303T153000
DTEND;TZID=UTC+2:20260303T163000
DTSTAMP:20260422T080216
CREATED:20260227T072948Z
LAST-MODIFIED:20260303T093635Z
UID:141407-1772551800-1772555400@www.lsu.lt
SUMMARY:ERASMUS+ programos pristatymas
DESCRIPTION:Kviečiame visus LSU studentus į ERASMUS+ programos pristatymą kovo 3 d. (antradienį) 15:30 val. (Centrinių rūmų 232 aud.)\, kurio metu išgirsite naudingos informacijos apie šios programos galimybes\, bei jau buvusių studentų patirtis. Taip pat\, renginio metu Tarptautinių ryšių skyriaus darbuotojai atsakys į jūsų asmeninius klausimus apie programos reikalavimus ir kt. \nPrimename\, kad prašymus dalyvauti ERASMUS+ programoje ir semestrą praleisti užsienio universitete arba atlikti praktiką užsienio institucijoje galite pateikti LSU informacinėje sistemoje iki kovo 8 d. \n\n
URL:https://www.lsu.lt/ivykis/erasmus-programos-pristatymas-the-erasmus-program-presentation/
CATEGORIES:Seminaras
ATTACH;FMTTYPE=image/png:https://www.lsu.lt/wp-content/uploads/2026/02/White-and-Blue-Modern-Tours-and-Travels-Agency-Promotion-Instagram-post_LT.png
END:VEVENT
END:VCALENDAR