BEGIN:VCALENDAR
VERSION:2.0
PRODID:-//Lietuvos sporto universitetas - ECPv4.6.10//NONSGML v1.0//EN
CALSCALE:GREGORIAN
METHOD:PUBLISH
X-WR-CALNAME:Lietuvos sporto universitetas
X-ORIGINAL-URL:https://www.lsu.lt
X-WR-CALDESC:Renginiai nuo Lietuvos sporto universitetas
BEGIN:VEVENT
DTSTART;TZID=UTC+2:20260226T140000
DTEND;TZID=UTC+2:20260226T153000
DTSTAMP:20260422T154030
CREATED:20260220T155438Z
LAST-MODIFIED:20260220T155438Z
UID:141197-1772114400-1772119800@www.lsu.lt
SUMMARY:Lietuvos sporto universiteto Senato posėdis
DESCRIPTION:2026 m. vasario 26 d. (ketvirtadienį) 14.00 val. Centrinių rūmų 218 auditorijoje vyks Lietuvos sporto universiteto Senato posėdis. \nDarbotvarkė\n1. LSU studentų priėmimo į lietuvių kalba vykdomas antrosios pakopos studijas 2016 m. taisyklių svarstymas ir tvirtinimas.\n2. LSU antrosios pakopos studijų bendrųjų kompetencijų aprašo svarstymas ir tvirtinimas.\n3. Einamieji klausimai. \n
URL:https://www.lsu.lt/ivykis/lietuvos-sporto-universiteto-senato-posedis-29/
CATEGORIES:Senatas
ATTACH;FMTTYPE=image/jpeg:https://www.lsu.lt/wp-content/uploads/2025/12/Veliaveles.jpg
END:VEVENT
END:VCALENDAR