BEGIN:VCALENDAR
VERSION:2.0
PRODID:-//Lietuvos sporto universitetas - ECPv4.6.10//NONSGML v1.0//EN
CALSCALE:GREGORIAN
METHOD:PUBLISH
X-WR-CALNAME:Lietuvos sporto universitetas
X-ORIGINAL-URL:https://www.lsu.lt
X-WR-CALDESC:Renginiai nuo Lietuvos sporto universitetas
BEGIN:VEVENT
DTSTART;TZID=UTC+2:20260225T110000
DTEND;TZID=UTC+2:20260225T120000
DTSTAMP:20260422T171314
CREATED:20260218T094342Z
LAST-MODIFIED:20260218T114645Z
UID:140288-1772017200-1772020800@www.lsu.lt
SUMMARY:Lietuvos sporto universiteto ir Lietuvos krepšinio teisėjų asociacijos bendradarbiavimo sutarties pasirašymas
DESCRIPTION:Vasario 25 d. (trečiadienį) 11 val. kviečiame į Lietuvos sporto universiteto (LSU) ir Lietuvos krepšinio teisėjų asociacijos (LKTA) bendradarbiavimo sutarties pasirašymą. Joje dalyvaus LSU rektorė Diana Rėklaitienė\, LKTA prezidentas Tomas Jasevičius\, LKTA prezidiumo nariai Juozas Barkauskas ir Kęstutis Pilipauskas\, LSU Krepšinio studijų ir mokslo centro vadovas Ramūnas Butautas.\nSutarties metu bus pristatyta unikali Europoje Krepšinio teisėjų rengimo programa\, kurią kartu įgyvendins LSU ir LKTA. Ceremonija vyks Centrinių rūmų (Sporto g. 6\, Kaunas) 218 auditorijoje.\nMaloniai kviečiame dalyvauti!\n
URL:https://www.lsu.lt/ivykis/lietuvos-sporto-universiteto-ir-lietuvos-krepsinio-teiseju-asociacijos-bendradarbiavimo-sutarties-pasirasymas/
CATEGORIES:Kita
ATTACH;FMTTYPE=image/jpeg:https://www.lsu.lt/wp-content/uploads/2026/02/Krepsys_krepsinis_lankas.jpg
END:VEVENT
BEGIN:VEVENT
DTSTART;TZID=UTC+2:20260225T153000
DTEND;TZID=UTC+2:20260225T170000
DTSTAMP:20260422T171314
CREATED:20260213T081136Z
LAST-MODIFIED:20260213T092628Z
UID:140242-1772033400-1772038800@www.lsu.lt
SUMMARY:Seminaras „GLP-1 agonistai: šiuolaikinis požiūris į svorio mažinimą\, naudą ir ribotumus"
DESCRIPTION:Vasario 25 d. (trečiadienį) 15.30 val. Centrinių rūmų 232 auditorijoje vyks Treniravimo mokslo katedros dėstytojo doc. Ramučio Kairaičio seminaras „GLP-1 agonistai: šiuolaikinis požiūris į svorio mažinimą\, naudą ir ribotumus“. \nSeminare bus aptariami GLP-1 receptorių agonistai (Ozempic\, Mounjaro ir kt.)\, jų veikimo mechanizmai\, privalumai ir galimi trūkumai\, remiantis naujausiais moksliniais tyrimais.\nAntroje seminaro dalyje bus pristatyta praktinė patirtis\, kaip mokslu grįsta tema gali būti transformuota į knygą ir savarankiškai publikuota per Amazon platformą. \nKviečiame dalyvauti! \n  \n
URL:https://www.lsu.lt/ivykis/seminaras-glp-1-agonistai-siuolaikinis-poziuris-i-svorio-mazinima-nauda-ir-ribotumus/
CATEGORIES:Paskaita
ATTACH;FMTTYPE=image/jpeg:https://www.lsu.lt/wp-content/uploads/2026/02/DSC03198-scaled.jpg
END:VEVENT
END:VCALENDAR