BEGIN:VCALENDAR
VERSION:2.0
PRODID:-//Lietuvos sporto universitetas - ECPv4.6.10//NONSGML v1.0//EN
CALSCALE:GREGORIAN
METHOD:PUBLISH
X-WR-CALNAME:Lietuvos sporto universitetas
X-ORIGINAL-URL:https://www.lsu.lt
X-WR-CALDESC:Renginiai nuo Lietuvos sporto universitetas
BEGIN:VEVENT
DTSTART;TZID=UTC+2:20260224T100000
DTEND;TZID=UTC+2:20260224T170000
DTSTAMP:20260422T182536
CREATED:20260203T090214Z
LAST-MODIFIED:20260220T143311Z
UID:139979-1771927200-1771952400@www.lsu.lt
SUMMARY:LSU moksleivių lauks „Aukštųjų mokyklų mugėje 2026“ Kaune
DESCRIPTION:2026 m. vasario 24 d. (antradienį) nuo 10 iki 17 val. Lietuvos sporto universitetas kviečia apsilankyti „Aukštųjų mokyklų mugėje 2026“\, kuri vyks Kaune\, „Žalgirio“ arenoje. \nLSU salelėje mūsų studentai ir dėstytojai lauks moksleivių\, jų tėvų\, karjeros specialistų pabendrauti\, susipažinti su LSU studijų programomis\, studentišku gyvenimu Universitete\, įsitraukti į smagias sporto veiklas. \nRenginių erdvėje 12–12.15 val. įdomų pranešimą „Future of Play: kai AI ateina į sportą“ moksleiviams pristatys Lietuvos sporto universiteto Sporto ir turizmo vadybos katedros docentė dr. Inga Staškevičiūtė-Butienė. \nAmfiteatre 13.50–14.05 val. į moksleiviams kirbantį klausimą  „Ar gali hobis virsti karjera?“ atsakys LSU doktorantė\, dziudo trenerė\, dėstytoja\, Lietuvos dziudo čempionė Miglė Julija Dudėnaitė. \nPrie LSU mobiliosios laboratorijos pasiūlysime išbandyti momentinius mokslinius tyrimus. \n
URL:https://www.lsu.lt/ivykis/lsu-moksleiviu-lauks-aukstuju-mokyklu-mugeje-2026-kaune/
CATEGORIES:Kita
ATTACH;FMTTYPE=image/jpeg:https://www.lsu.lt/wp-content/uploads/2026/02/AMM-2026.jpg
END:VEVENT
BEGIN:VEVENT
DTSTART;TZID=UTC+2:20260224T180000
DTEND;TZID=UTC+2:20260224T190000
DTSTAMP:20260422T182536
CREATED:20260130T160344Z
LAST-MODIFIED:20260223T095642Z
UID:139918-1771956000-1771959600@www.lsu.lt
SUMMARY:Atvira paskaita „Kasdieniai įpročiai\, gerinantys sveikatą ir gyvenimo kokybę“
DESCRIPTION:Vasario 24 d. (antradienį) 18 val. Centrinių rūmų (Sporto g. 6) 215 auditorijoje kviečiame į paskaitą „Kasdieniai įpročiai\, gerinantys sveikatą ir gyvenimo kokybę“. Ją skaitys LSU Sveikatinimo ir reabilitacijos katedros profesorė Vilma Dudonienė. Lektorė yra žurnalo „Reabilitacijos mokslai: slauga\, kineziterapija\, ergoterapija“ vyr. redaktorė\, ENPHE (Europos aukštųjų kineziterapijos mokyklų tinklas) tarybos narė. \nRegistracija į šią ir kitas atviras paskaitas \nATVIRŲ PASKAITŲ TVARKARAŠTIS\nPaskaitos vyks Lietuvos sporto universiteto Centrinių rūmų (Sporto g. 6) 215 auditorijoje 18:00–19:00 val. \n\n\n\n\n\n\n\n\n\n\n\n\n\n\n\n\n\nDATA\nTEMA\nLEKTORIUS\n\n\n\n\nKovo 10 d. \n18:00–19:00 val.\n„Tėvų ir suaugusių vaikų nesusikalbėjimas“\nEva Tombak\nŽurnalistė\, rašytoja\, dešimties knygų autorė\, žurnalų „Cosmopolitan“ ir „IEVA“ įkūrėja\, lektorė ir jogos mokytoja (joga orientuota senjorams – sąnarių ir hormonų jogos praktikos)\n\n\n\n\nKovo 17 d. \n18:00–19:00 val.\n„Priekaištai senėjimui ir amžėjimo pranašumai“\nEva Tombak\nŽurnalistė\, rašytoja\, dešimties knygų autorė\, žurnalų „Cosmopolitan“ ir „IEVA“ įkūrėja\, lektorė ir jogos mokytoja (joga orientuota senjorams – sąnarių ir hormonų jogos praktikos)\n\n\n\n\nKovo 31 d. \n18:00–19:00 val.\n„Be įkvėpimo nėra plaukimo“\nDoc. dr. Birutė Statkevičienė \nMiuncheno olimpinių žaidynių dalyvė\, 67-erių Lietuvos sporto universiteto (LSU) Treniravimo mokslų katedros socialinių mokslų daktarė\, docentė\, Lietuvos olimpiečių asociacijos viceprezidentė\n\n \n\n\nBalandžio 14 d. \n18:00–19:00 val.\n„Gyvename su artritu – ką turime žinoti“\nDr. Kristina Visagurskienė\nLSU lektorė\, nacionalinių ir tarptautinių projektų dalyvė\, vadovėlio „Fizinis aktyvumas ir sveikata“ (2021) bendraautorė\, LSU TAU veiklų koordinatorė\, Nirvana fitness instruktorė\n\n\n\n\nBalandžio 28 d. \n18:00–19:00 val.\nAtvira paskaita visiems norintiems „Griaunam stereotipus! Nėštumas ir mankšta: priešai ar draugai?“\nDoc. dr. Simona Pajaujienė\nLSU docentė\, nacionalinių ir tarptautinių mokslo ir kitų projektų dalyvė\, tarptautinių mokslo publikacijų bendraautorė\, vadovėlio „Fizinis aktyvumas ir sveikata“ (2021) bendraautorė\,  „EuropeActive“ techninių ekspertų grupių narė\, sveikatingumo trenerė\, motyvatorė\, TV ir radijo laidų dalyvė\, kviestinė pranešėja įvairiuose Lietuvos ir tarptautiniuose sporto\, laisvalaikio bei visuomenės sveikatos renginiuose\, konferencijose ir seminaruose\, Nirvana fitness mokymų koordinatorė Lietuvoje\n\n\n\n\nGegužės 12 d. \n18:00-19:00 val.\n„Sensorika – jos reikšmė kasdieniame gyvenime“\nDr. Kristina Visagurskienė\nLSU lektorė\, nacionalinių ir tarptautinių projektų dalyvė\, vadovėlio „Fizinis aktyvumas ir sveikata“ (2021) bendraautorė\, LSU TAU veiklų koordinatorė\, Nirvana fitness instruktorė\n\n\n\n\nGegužės 19 d. \n18:00-19:00 val.\n„Kojų sąnarių skausmo vertinimas ir valdymas. Fizinio krūvio pasirinkimas esant kojų sąnarių pažeidimams”\nDoc. dr. Vilma Juodžbalienė \nLSU sveikatinimo ir reabilitacijos katedros docentė\, reabilitacijos ir kineziterapijos klinikos „MOTUS VITA“ įkūrėja ir vyr. kineziterapeutė. Lektorė turi dvidešimties metų akademinio ir dvidešimt penkerių metų klinikinio kineziterapinio darbo patirtį. Tarptautinių ir nacionalinių publikacijų\, knygų bendraautorė\, mokslinių tyrimų ir studijų projektų koordinatorė ir partnerė. Specializuojasi ortopedinių\, traumatologinių\, vertebroneurologinių ligonių\, sportininkų reabilitacijoje ir lėtinio skausmo gydyme. Skaito paskaitas profesinėse gydytojų\, kineziterapeutų\, trenerių konferencijose ir mokymuose.\n\n\n\n\n\n\n*Renginių metu bus fotografuojama ar filmuojama. Informuojame\, kad Jūs galite būti matomi renginio nuotraukose / vaizdo įrašuose\, kurie bus skelbiami įvairiose LSU ar kitose medijos priemonėse. \n
URL:https://www.lsu.lt/ivykis/atvira-paskaita-kasdieniai-iprociai-gerinantys-sveikata-ir-gyvenimo-kokybe/
CATEGORIES:Paskaita
ATTACH;FMTTYPE=image/jpeg:https://www.lsu.lt/wp-content/uploads/2025/07/LSU-straipsniui-apie-sveikata-scaled.jpg
END:VEVENT
END:VCALENDAR