BEGIN:VCALENDAR
VERSION:2.0
PRODID:-//Lietuvos sporto universitetas - ECPv4.6.10//NONSGML v1.0//EN
CALSCALE:GREGORIAN
METHOD:PUBLISH
X-WR-CALNAME:Lietuvos sporto universitetas
X-ORIGINAL-URL:https://www.lsu.lt
X-WR-CALDESC:Renginiai nuo Lietuvos sporto universitetas
BEGIN:VEVENT
DTSTART;TZID=UTC+2:20260212T120000
DTEND;TZID=UTC+2:20260212T140000
DTSTAMP:20260422T092125
CREATED:20260113T095627Z
LAST-MODIFIED:20260202T131439Z
UID:139073-1770897600-1770904800@www.lsu.lt
SUMMARY:Rūtos Brazdžionytės disertacijos gynimas
DESCRIPTION:2026 m. vasario 12 d. (ketvirtadienį) 12 val. Centrinių rūmų 218 auditorijoje vyks Biologijos mokslo krypties doktorantės Rūtos Brazdžionytės disertacijos MONITORING OF CARDIOVASCULAR SYSTEM IN EXERCISING FOR HEALTH APPLYING ENDURANCE\, STRENGTH TASKS OR MULTIMODAL EXERCISE PROGRAMS gynimas. Mokslinis vadovas prof. habil. dr. Liudas Jonas Poderys. \n
URL:https://www.lsu.lt/ivykis/rutos-brazdzionytes-disertacijos-gynimas/
CATEGORIES:Kita
ATTACH;FMTTYPE=image/jpeg:https://www.lsu.lt/wp-content/uploads/2024/10/LSU_Senatas-e1731402566651.jpg
END:VEVENT
END:VCALENDAR