BEGIN:VCALENDAR
VERSION:2.0
PRODID:-//Lietuvos sporto universitetas - ECPv4.6.10//NONSGML v1.0//EN
CALSCALE:GREGORIAN
METHOD:PUBLISH
X-WR-CALNAME:Lietuvos sporto universitetas
X-ORIGINAL-URL:https://www.lsu.lt
X-WR-CALDESC:Renginiai nuo Lietuvos sporto universitetas
BEGIN:VEVENT
DTSTART;TZID=UTC+2:20260204T110000
DTEND;TZID=UTC+2:20260204T130000
DTSTAMP:20260421T205517
CREATED:20260129T132128Z
LAST-MODIFIED:20260129T145238Z
UID:139881-1770202800-1770210000@www.lsu.lt
SUMMARY:Prof. dr. G. Sokolovo paskaita „Mokymo plaukti moksliniai pagrindai“
DESCRIPTION:Vasario 4 d. (trečiadienį) 11 val. kviečiame į profesoriaus dr. Genadijaus Sokolovo 2 val. trukmės nuotolinę paskaitą „Mokymo plaukti moksliniai pagrindai“\, skirtą Lietuvos plaukimo treneriams\, LSU dėstytojams ir studentams. \nG. Sokolovas yra visame pasaulyje pripažintas sporto mokslininkas\, fiziologas ir plaukimo biomechanikos ekspertas. Jis sukūrė pažangias testavimo programas\, tokias kaip Swim Power testą bei įvairias kompiuterines programas\, skirtas plaukikų technikai analizuoti. G. Sokolovas yra Lietuvos sporto universiteto partnerystės profesorius\, skaito paskaitas ir konsultuoja ne tik Lietuvos plaukimo bendruomenę\, bet ir įvairių šalių plaukimo trenerius. \nRenginio ZOOM nuoroda: https://liedm.zoom.us/j/85480823111\nRegistracija: pildyti \n  \n
URL:https://www.lsu.lt/ivykis/prof-dr-g-sokolovo-paskaita-mokymo-plaukti-moksliniai-pagrindai/
CATEGORIES:Seminaras
ATTACH;FMTTYPE=image/jpeg:https://www.lsu.lt/wp-content/uploads/2026/01/LSU_2026_renginiai_paskaitos_Sokolovas_svetaine-NAUJIENOS.jpg
END:VEVENT
END:VCALENDAR