BEGIN:VCALENDAR
VERSION:2.0
PRODID:-//Lietuvos sporto universitetas - ECPv4.6.10//NONSGML v1.0//EN
CALSCALE:GREGORIAN
METHOD:PUBLISH
X-WR-CALNAME:Lietuvos sporto universitetas
X-ORIGINAL-URL:https://www.lsu.lt
X-WR-CALDESC:Renginiai nuo Lietuvos sporto universitetas
BEGIN:VEVENT
DTSTART;TZID=UTC+2:20260203T110000
DTEND;TZID=UTC+2:20260203T170000
DTSTAMP:20260421T190845
CREATED:20260126T150639Z
LAST-MODIFIED:20260126T152517Z
UID:139747-1770116400-1770138000@www.lsu.lt
SUMMARY:LSU darbo tarybos rinkimai
DESCRIPTION:Kviečiame visus aktyviai dalyvauti Lietuvos sporto universiteto darbo tarybos rinkimuose. \nRinkimai vyks š. m. vasario 3 d. (antradienį) nuo 11.00 val. LSU Centrinių rūmų 215 auditorijoje. \nDarbo tarybos rinkimuose balso teisę turi visi bent trijų nepertraukiamų mėnesių darbo santykius su Universitetu turintys darbuotojai\, išskyrus darbdavį ir pagal įstatymus\, įgaliojimus ar steigimo dokumentus jam atstovaujančius asmenis. \nDarbo taryba renkama remiantis visuotine ir lygia rinkimų teise\, slaptu balsavimu tiesioginiuose rinkimuose (Žiūrėti: LSU darbo tarybos rinkimų tvarka). \nLSU darbo tarybą sudarys 5 darbo tarybos nariai (4 nariai\, surinkę daugiausia balsų iš bendro pasiūlytų kandidatų sąrašo\, ir 1 narys\, surinkęs daugiausia balsų iš LSU darbuotojų profesinės sąjungos pasiūlytų kandidatų sąrašo). \nKandidatų į LSU darbo tarybos narius sąrašas:\n1. Audra Čekanauskienė*\n2. Andrius Gavorka*\n3. Rita Gruodytė-Račienė*\n4. Saulius Kavaliauskas*\n5. Dovilė Kielė\n6. Kristina Mejerytė-Narkevičienė\n7. Audrius Sniečkus\n8. Milda Treigienė\n9. Aurelijus Kazys Zuoza*\n* Šiuos kandidatus pasiūlė LSU darbuotojų profesinė sąjunga. \nSiekiant užtikrinti visų Universiteto darbuotojų galimybę dalyvauti rinkimuose ir išreikšti savo nuomonę bus vykdomas išankstinis balsavimas.\nIšankstinio balsavimo datos ir vieta:\nSausio 29 d. (ketvirtadienį) 09.00–12.00 val. ir 13.00–16.00 val. LSU biblioteka\, III aukštas\, 301 kab.\nVasario 2 d. (pirmadienį) 09.00–12.00 val. ir 13.00–16.00 val. LSU biblioteka\, III aukštas\, 301 kab. \nDarbo tarybos rinkimų rezultatai bus paskelbti š. m. vasario 4 d. \nTrumpai apie Darbo tarybos veiklą\nDarbo taryba yra nepriklausomas kolegialus Universiteto darbuotojų atstovaujamasis organas\, kurio nariai yra renkami iš Universiteto darbuotojų.\nDarbo taryba sudaroma trejų metų kadencijai\, kuri pradedama skaičiuoti nuo darbo tarybos įgaliojimų pradžios.\nDarbo tarybą\, atsižvelgiant į vidutinį Universiteto darbuotojų skaičių\, sudaro 5 darbo tarybos nariai.\nPagrindinės darbo tarybos ir jos narių funkcijos:\n1) dalyvauti informavimo\, konsultavimo procedūrose ir kitose dalyvavimo procedūrose\, kuriomis darbuotojai ir jų atstovai įtraukiami į darbdavio sprendimų priėmimą;\n2) gauti iš darbdavio informaciją\, reikalingą savo funkcijoms atlikti;\n3) teikti darbdaviui pasiūlymus dėl ekonominių\, socialinių ir darbo klausimų\, aktualių darbuotojams darbdavio sprendimų\, darbo teisės normų įgyvendinimo;\n4) inicijuoti kolektyvinį darbo ginčą dėl teisės\, jeigu darbdavys nevykdo darbo teisės normų reikalavimų ar Tarybos ir darbdavio susitarimų;\n5) dalyvauti sprendžiant darbdavio darbuotojų ekonominius\, socialinius ir darbo klausimus\, sušaukti visuotinį darbdavio ar darbovietės darbuotojų susirinkimą (konferenciją). \nKontaktai\nDarbo tarybos rinkimų komisijos pirmininkas Tomas Kukenys\nEl. p. tomas.kukenys@lsu.lt\, tel. +370 690 09921.\nDarbo tarybos rinkimų komisijos sekretorė Asta Zarauskienė\nEl. p. asta.zarauskiene@lsu.lt\, tel. +370 690 09930. \n\n
URL:https://www.lsu.lt/ivykis/lsu-darbo-tarybos-rinkimai/
CATEGORIES:Kita
ATTACH;FMTTYPE=image/jpeg:https://www.lsu.lt/wp-content/uploads/2023/10/LSU-centriniai-rumai-e1701260518942.jpg
END:VEVENT
END:VCALENDAR