BEGIN:VCALENDAR
VERSION:2.0
PRODID:-//Lietuvos sporto universitetas - ECPv4.6.10//NONSGML v1.0//EN
CALSCALE:GREGORIAN
METHOD:PUBLISH
X-WR-CALNAME:Lietuvos sporto universitetas
X-ORIGINAL-URL:https://www.lsu.lt
X-WR-CALDESC:Renginiai nuo Lietuvos sporto universitetas
BEGIN:VEVENT
DTSTART;TZID=UTC+2:20260131T170000
DTEND;TZID=UTC+2:20260131T190000
DTSTAMP:20260421T142549
CREATED:20260127T072125Z
LAST-MODIFIED:20260127T072125Z
UID:139767-1769878800-1769886000@www.lsu.lt
SUMMARY:NKL čempionato rungtynės. „Omega-Tauras-LSU“ – „Žalgiris-2"
DESCRIPTION:Sausio 31 d. (šeštadienį) 17.00 val. vyks NKL 2025/2026 m. sezono rungtynės. Kauno r. „Omega-Tauras-LSU“ susitiks su Kauno „Žalgiris-2” komanda.\nSusitikimas vyks Kauno r. Garliavos SC\, Vasario 16 g. 8\, Garliava. \nKviečiame palaikyti LSU komandą! \nKauno r. „Omega-Tauras-LSU“ nuotrauka \n
URL:https://www.lsu.lt/ivykis/nkl-cempionato-rungtynes-omega-tauras-lsu-zalgiris-2/
CATEGORIES:Varžybos
ATTACH;FMTTYPE=image/jpeg:https://www.lsu.lt/wp-content/uploads/2025/10/I6A6392-2048x1365-1.jpg
END:VEVENT
END:VCALENDAR