BEGIN:VCALENDAR
VERSION:2.0
PRODID:-//Lietuvos sporto universitetas - ECPv4.6.10//NONSGML v1.0//EN
CALSCALE:GREGORIAN
METHOD:PUBLISH
X-WR-CALNAME:Lietuvos sporto universitetas
X-ORIGINAL-URL:https://www.lsu.lt
X-WR-CALDESC:Renginiai nuo Lietuvos sporto universitetas
BEGIN:VEVENT
DTSTART;TZID=UTC+2:20260129T140000
DTEND;TZID=UTC+2:20260129T160000
DTSTAMP:20260421T112537
CREATED:20260126T065641Z
LAST-MODIFIED:20260126T065641Z
UID:139739-1769695200-1769702400@www.lsu.lt
SUMMARY:LSU Senato posėdis
DESCRIPTION:Sausio 29 d. (ketvirtadienį) 14 val. 218 aud. (LSU centriniai rūmai) vyks Senato posėdis. \n
URL:https://www.lsu.lt/ivykis/lsu-senato-posedis-15/
CATEGORIES:Senatas
ATTACH;FMTTYPE=image/jpeg:https://www.lsu.lt/wp-content/uploads/2025/12/Veliaveles.jpg
END:VEVENT
END:VCALENDAR