BEGIN:VCALENDAR
VERSION:2.0
PRODID:-//Lietuvos sporto universitetas - ECPv4.6.10//NONSGML v1.0//EN
CALSCALE:GREGORIAN
METHOD:PUBLISH
X-WR-CALNAME:Lietuvos sporto universitetas
X-ORIGINAL-URL:https://www.lsu.lt
X-WR-CALDESC:Renginiai nuo Lietuvos sporto universitetas
BEGIN:VEVENT
DTSTART;TZID=UTC+2:20260126T170000
DTEND;TZID=UTC+2:20260126T190000
DTSTAMP:20260421T072627
CREATED:20260123T083016Z
LAST-MODIFIED:20260123T083016Z
UID:139716-1769446800-1769454000@www.lsu.lt
SUMMARY:LSKL čempionato rungtynės. LSU – KU
DESCRIPTION:Sausio 26 d. (pirmadienį) 17 val. vyks Lietuvos studentų krepšinio  lygos (LSKL) čempionato rungtynės. Lietuvos sporto universiteto krepšininkai susitiks su Klaipėdos universiteto komanda. Susitikimas vyks LSU sporto salėje. \nPalaikykite mūsų krepšininkus! \n
URL:https://www.lsu.lt/ivykis/lskl-cempionato-rungtynes-lsu-ku-2/
CATEGORIES:Varžybos
ATTACH;FMTTYPE=image/jpeg:https://www.lsu.lt/wp-content/uploads/2026/01/krepsys_krepsinis_lankas.jpg
END:VEVENT
END:VCALENDAR