BEGIN:VCALENDAR
VERSION:2.0
PRODID:-//Lietuvos sporto universitetas - ECPv4.6.10//NONSGML v1.0//EN
CALSCALE:GREGORIAN
METHOD:PUBLISH
X-WR-CALNAME:Lietuvos sporto universitetas
X-ORIGINAL-URL:https://www.lsu.lt
X-WR-CALDESC:Renginiai nuo Lietuvos sporto universitetas
BEGIN:VEVENT
DTSTART;TZID=UTC+2:20260122T100000
DTEND;TZID=UTC+2:20260123T180000
DTSTAMP:20260421T012442
CREATED:20240215T131728Z
LAST-MODIFIED:20260116T081235Z
UID:116669-1769076000-1769191200@www.lsu.lt
SUMMARY:Paroda „Studijos ir karjera Lietuvoje 2026“
DESCRIPTION:2026 m. sausio 22–23 d. (ketvirtadienį ir penktadienį) Lietuvos parodų ir kongresų centre „Litexpo“ (Laisvės pr. 5\, Vilnius) vyks paroda „Studijos ir karjera Lietuvoje 2026“\, kurios tema – „Atrask\, kas tinka būtent tau“. \nKaip ir kasmet\, parodoje dalyvaus Lietuvos sporto universiteto studentai\, dėstytojai ir mokslininkai\, kurie pristatys studijų programas ir momentinius mokslinius tyrimus. \n
URL:https://www.lsu.lt/ivykis/paroda-karjera-ir-studijos-lietuvoje-2024/
CATEGORIES:Kita
ATTACH;FMTTYPE=image/jpeg:https://www.lsu.lt/wp-content/uploads/2025/02/LSU-stendas-2025-1.jpg
END:VEVENT
END:VCALENDAR