BEGIN:VCALENDAR
VERSION:2.0
PRODID:-//Lietuvos sporto universitetas - ECPv4.6.10//NONSGML v1.0//EN
CALSCALE:GREGORIAN
METHOD:PUBLISH
X-WR-CALNAME:Lietuvos sporto universitetas
X-ORIGINAL-URL:https://www.lsu.lt
X-WR-CALDESC:Renginiai Lietuvos sporto universitetas
BEGIN:VEVENT
DTSTART;TZID=UTC+2:20260121T121500
DTEND;TZID=UTC+2:20260121T140000
DTSTAMP:20260421T000100
CREATED:20260116T075727Z
LAST-MODIFIED:20260116T080432Z
UID:139415-1768997700-1769004000@www.lsu.lt
SUMMARY:Lietuvos sporto universiteto Tarybos posėdis
DESCRIPTION:2026 m. sausio 21 d. (trečiadienį) 12.15 val. vyks nuotolinis Lietuvos sporto universiteto Tarybos posėdis. \nDarbotvarkė\n1. LSU Darbo apmokėjimo sistemos tikslinimo svarstymas ir tvirtinimas.\n2. LSU Strategijos 2023–2027 rodiklių tikslinimo svarstymas ir tvirtinimas. \nKilus klausimams prašome kreiptis el. paštu taryba@lsu.lt \n
URL:https://www.lsu.lt/ivykis/lietuvos-sporto-universiteto-tarybos-posedis-22/
CATEGORIES:Taryba
ATTACH;FMTTYPE=image/jpeg:https://www.lsu.lt/wp-content/uploads/2025/11/DSC03267-scaled.jpg
END:VEVENT
END:VCALENDAR