BEGIN:VCALENDAR
VERSION:2.0
PRODID:-//Lietuvos sporto universitetas - ECPv4.6.10//NONSGML v1.0//EN
CALSCALE:GREGORIAN
METHOD:PUBLISH
X-WR-CALNAME:Lietuvos sporto universitetas
X-ORIGINAL-URL:https://www.lsu.lt
X-WR-CALDESC:Renginiai nuo Lietuvos sporto universitetas
BEGIN:VEVENT
DTSTART;TZID=UTC+2:20260119T170000
DTEND;TZID=UTC+2:20260119T190000
DTSTAMP:20260420T212022
CREATED:20260109T140303Z
LAST-MODIFIED:20260109T140539Z
UID:139032-1768842000-1768849200@www.lsu.lt
SUMMARY:LSKL čempionato rungtynės LSU – KTU
DESCRIPTION:Sausio 19 d. (pirmadienį) 17 val. vyks Lietuvos studentų krepšinio  lygos (LSKL) čempionato rungtynės. Lietuvos sporto universiteto krepšininkai susitiks su Kauno technologijos universiteto komanda. Susitikimas vyks LSU sporto salėje. \nPalaikykite mūsų krepšininkus! \n
URL:https://www.lsu.lt/ivykis/lskl-cempionato-rungtynes-lsu-ktu-2/
CATEGORIES:Varžybos
ATTACH;FMTTYPE=image/jpeg:https://www.lsu.lt/wp-content/uploads/2026/01/466641968_883873950594254_7910216277633621535_n.jpg
END:VEVENT
END:VCALENDAR