BEGIN:VCALENDAR
VERSION:2.0
PRODID:-//Lietuvos sporto universitetas - ECPv4.6.10//NONSGML v1.0//EN
CALSCALE:GREGORIAN
METHOD:PUBLISH
X-WR-CALNAME:Lietuvos sporto universitetas
X-ORIGINAL-URL:https://www.lsu.lt
X-WR-CALDESC:Renginiai nuo Lietuvos sporto universitetas
BEGIN:VEVENT
DTSTART;TZID=UTC+2:20260110T170000
DTEND;TZID=UTC+2:20260110T190000
DTSTAMP:20260420T064610
CREATED:20251229T115024Z
LAST-MODIFIED:20251229T115024Z
UID:138893-1768064400-1768071600@www.lsu.lt
SUMMARY:NKL čempionato rungtynės Kauno r. „Omega-Tauras-LSU“ – Šakių „Vytis-VDU”
DESCRIPTION:Sausio 10 d. (šeštadienį) 17.00 val. vyks NKL 2025/2026 m. sezono rungtynės. Kauno r. „Omega-Tauras-LSU“ susitiks su Šakių „Vytis-VDU”.\nSusitikimas vyks VDU Sporto centre\, (Studentų g. 9A\, Akademija\, 53361 Kauno r.) \nKviečiame palaikyti LSU komandą! \n  \n
URL:https://www.lsu.lt/ivykis/nkl-cempionato-rungtynes-kauno-r-omega-tauras-lsu-sakiu-vytis-vdu/
CATEGORIES:Varžybos
ATTACH;FMTTYPE=image/jpeg:https://www.lsu.lt/wp-content/uploads/2025/12/I6A6392-1-scaled.jpg
END:VEVENT
END:VCALENDAR