BEGIN:VCALENDAR
VERSION:2.0
PRODID:-//Lietuvos sporto universitetas - ECPv4.6.10//NONSGML v1.0//EN
CALSCALE:GREGORIAN
METHOD:PUBLISH
X-WR-CALNAME:Lietuvos sporto universitetas
X-ORIGINAL-URL:https://www.lsu.lt
X-WR-CALDESC:Renginiai nuo Lietuvos sporto universitetas
BEGIN:VEVENT
DTSTART;TZID=UTC+2:20260109T120000
DTEND;TZID=UTC+2:20260109T140000
DTSTAMP:20260420T051919
CREATED:20251212T074116Z
LAST-MODIFIED:20260105T073019Z
UID:138294-1767960000-1767967200@www.lsu.lt
SUMMARY:Leonardo Cesanelli disertacijos gynimas
DESCRIPTION:2026 m. sausio 9 d. (penktadienį) 12 val. LSU Centrinių rūmų 218 auditorijoje vyks Biologijos mokslo krypties doktoranto Leonardo Cesanelli disertacijos The impact of obesity on skeletal muscle morphology\, mechanical properties and functional implications gynimas. Mokslinė vadovė prof. dr. Danguolė Satkunskienė\, mokslinis konsultantas prof. dr. Hans Degens.\n
URL:https://www.lsu.lt/ivykis/leonardo-cesanelli-disertacijos-gynimas/
CATEGORIES:Kita
ATTACH;FMTTYPE=image/jpeg:https://www.lsu.lt/wp-content/uploads/2024/10/LSU_Senatas-e1731402566651.jpg
END:VEVENT
END:VCALENDAR