BEGIN:VCALENDAR
VERSION:2.0
PRODID:-//Lietuvos sporto universitetas - ECPv4.6.10//NONSGML v1.0//EN
CALSCALE:GREGORIAN
METHOD:PUBLISH
X-WR-CALNAME:Lietuvos sporto universitetas
X-ORIGINAL-URL:https://www.lsu.lt
X-WR-CALDESC:Renginiai nuo Lietuvos sporto universitetas
BEGIN:VEVENT
DTSTART;TZID=UTC+2:20260108T100000
DTEND;TZID=UTC+2:20260108T130000
DTSTAMP:20260420T044446
CREATED:20260105T140606Z
LAST-MODIFIED:20260105T150602Z
UID:138958-1767866400-1767877200@www.lsu.lt
SUMMARY:Skaitmeninio raštingumo dirbtuvės LSU trečiojo amžiaus universiteto klausytojams
DESCRIPTION:LSU trečiojo amžiaus universiteto klausytojus kviečiame į Skaitmeninio raštingumo dirbtuves. Jos vyks LSU Centrinių rūmų 215 aud. (Sporto g. 6\, Kaunas). \nRenginiai \nSausio 8 d.  10:00–13:00 val.  „E. sveikatos portalo paslaugos internete“.\nSausio 13 d. 10:00–13:00 val.  „Socialinės apsaugos ir darbo paieškos paslaugos internete“.\nSausio 15 d.  10:00–13:00 val.  „Transporto registracijos ir viešojo transporto e. Paslaugos“.\nSausio 20 d.  10:00–13:00 val.  „Asmens dokumentų užsakymo ir migracijos e. Paslaugos“.\nSausio 22 d.  10:00–13:00 val.  „Kultūros portalų e. Paslaugos“. \nDirbtuves organizuoja asociacija „Langas į ateitį“\, vykdydama projektą „Prisijungusi Lietuva: skaitmeninių įgūdžių tobulinimas“\, kurio tikslas – supažindinti Lietuvos gyventojus su e. valdžios paslaugų galimybėmis ir naudomis. \nDaugiau informacijos apie projektą: eDirbtuves.lt \n
URL:https://www.lsu.lt/ivykis/skaitmeninio-rastingumo-dirbtuves-lsu-treciojo-amziaus-universiteto-klausytojams/
CATEGORIES:Paskaita
ATTACH;FMTTYPE=image/png:https://www.lsu.lt/wp-content/uploads/2025/10/LSU-biblioteka_nuotrauka_mokymams.png
END:VEVENT
END:VCALENDAR