BEGIN:VCALENDAR
VERSION:2.0
PRODID:-//Lietuvos sporto universitetas - ECPv4.6.10//NONSGML v1.0//EN
CALSCALE:GREGORIAN
METHOD:PUBLISH
X-WR-CALNAME:Lietuvos sporto universitetas
X-ORIGINAL-URL:https://www.lsu.lt
X-WR-CALDESC:Renginiai nuo Lietuvos sporto universitetas
BEGIN:VEVENT
DTSTART;TZID=UTC+2:20250606T103000
DTEND;TZID=UTC+2:20250606T130000
DTSTAMP:20260421T082741
CREATED:20250605T063748Z
LAST-MODIFIED:20250605T063748Z
UID:131015-1749205800-1749214800@www.lsu.lt
SUMMARY:Pažintinis renginys Gedimino sporto ir sveikatinimo gimnazijos moksleiviams
DESCRIPTION:Birželio 6 d. (penktadienį) 10.30 – 13 val. vyks pažintinis renginys Gedimino sporto ir sveikatinimo gimnazijos moksleiviams. Jie ne tik susipažins su universitetu\, bet ir išbandys įvairias veiklas. Moksleivių laukia judrieji žaidimai\, boksas\, gatvės šokiai\, smūginis\, sveikatingumo treniruotė\, nuotaikingas stalo žaidimas „Čempionai”. \nRenginys prasidės 10.30 val. LSU aktų salėje (II rūmai). \n
URL:https://www.lsu.lt/ivykis/pazintinis-renginys-gedimino-sporto-ir-sveikatinimo-gimnazijos-moksleiviams/
CATEGORIES:Kita
ATTACH;FMTTYPE=image/jpeg:https://www.lsu.lt/wp-content/uploads/2025/06/LSUNKDT_boksas-15.jpg
END:VEVENT
END:VCALENDAR