BEGIN:VCALENDAR
VERSION:2.0
PRODID:-//Lietuvos sporto universitetas - ECPv4.6.10//NONSGML v1.0//EN
CALSCALE:GREGORIAN
METHOD:PUBLISH
X-WR-CALNAME:Lietuvos sporto universitetas
X-ORIGINAL-URL:https://www.lsu.lt
X-WR-CALDESC:Renginiai nuo Lietuvos sporto universitetas
BEGIN:VEVENT
DTSTART;TZID=UTC+2:20250604T140000
DTEND;TZID=UTC+2:20250604T150000
DTSTAMP:20260421T082743
CREATED:20250526T112727Z
LAST-MODIFIED:20250526T131524Z
UID:130537-1749045600-1749049200@www.lsu.lt
SUMMARY:Susitikimas su Tėvynės Sąjungos-Lietuvos krikščionių demokratų partijos pirmininku Laurynu Kasčiūnu
DESCRIPTION:2025 m. birželio 4 d. (trečiadienį) 14 val. Centrinių rūmų 232 auditorijoje su Lietuvos sporto universiteto bendruomene susitiks Tėvynės Sąjungos-Lietuvos krikščionių demokratų partijos pirmininkas\, buvęs krašto apsaugos ministras Laurynas Kasčiūnas.\n\nKviečiame aktyviai dalyvauti!\n
URL:https://www.lsu.lt/ivykis/susitikimas-su-tevynes-sajungos-lietuvos-krikscioniu-demokratu-partijos-pirmininku-laurynu-kasciunu/
CATEGORIES:Kita
ATTACH;FMTTYPE=image/jpeg:https://www.lsu.lt/wp-content/uploads/2019/12/Vėliava-e1575881980464.jpg
END:VEVENT
END:VCALENDAR