BEGIN:VCALENDAR
VERSION:2.0
PRODID:-//Lietuvos sporto universitetas - ECPv4.6.10//NONSGML v1.0//EN
CALSCALE:GREGORIAN
METHOD:PUBLISH
X-WR-CALNAME:Lietuvos sporto universitetas
X-ORIGINAL-URL:https://www.lsu.lt
X-WR-CALDESC:Renginiai nuo Lietuvos sporto universitetas
BEGIN:VEVENT
DTSTART;TZID=UTC+2:20221028T100000
DTEND;TZID=UTC+2:20221028T170000
DTSTAMP:20260419T174543
CREATED:20220906T112633Z
LAST-MODIFIED:20220906T120339Z
UID:100308-1666951200-1666976400@www.lsu.lt
SUMMARY:Kviečiame į Lietuvos aukštųjų ir profesinių mokyklų pirmosios medicinos pagalbos varžybas
DESCRIPTION:Lietuvos paramedikų asociacija\, VšĮ Pirmosios medicinos pagalbos mokymo centras „IRTA“ ir Karaliaus Mindaugo profesinio mokymo centras organizuoja Lietuvos aukštųjų ir profesinių mokyklų pirmosios medicinos pagalbos varžybas\, kurios vyks spalio 28 dieną Karaliaus Mindaugo profesinio mokymo centre (V. Krėvės pr. 84\, Kaunas). \nLietuvoje – tai pirmasis toks renginys\, kuris sujungs Lietuvos universitetus\, kolegijas bei profesines mokyklas. Varžytis kviečiami tų studijų programų\, kuriose yra privalomas pirmosios medicinos pagalbos kursas\, studentai. Komandą sudaro 3 nariai\, vienas komandos narys paskiriamas būti komandos kapitonu. Visi nariai turės pademonstruoti pirmosios medicinos pagalbos įgūdžius simuliuotose praktinėse užduotyse bei pasitikrinti teorines žinias rašydami testą. Komandą lydi juos rengęs dėstytojas\, mokytojas. \nKviečiame Jūsų mokymo įstaigos studentus burtis į komandą ir dalyvauti varžybose. Tai – puiki galimybė pamatyti savo veiksmus stresinėje situacijoje bei išsiugdyti pirmosios medicinos pagalbos įgūdžius\, kurie padės gelbėti gyvybes. \nPrisegame varžybų nuostatai\, kuriuose rasite daugiau informacijos.\nFacebook renginys: https://fb.me/e/3w9k9BKR0 \nRegistracija į varžybas vyksta šioje formoje iki rugsėjo 30 dienos: https://forms.gle/cMXTFMMCiFWWxUE58 \nKilus klausimų\, rašyti šiuo el.pašto adresu arba skambinti telefonu 860036360. \n
URL:https://www.lsu.lt/ivykis/kvieciame-i-lietuvos-aukstuju-ir-profesiniu-mokyklu-pirmosios-medicinos-pagalbos-varzybas/
CATEGORIES:Varžybos
ATTACH;FMTTYPE=image/jpeg:https://www.lsu.lt/wp-content/uploads/2022/09/My-project-1.jpg
END:VEVENT
BEGIN:VEVENT
DTSTART;TZID=UTC+2:20221028T110000
DTEND;TZID=UTC+2:20221028T130000
DTSTAMP:20260419T174543
CREATED:20221006T065356Z
LAST-MODIFIED:20221006T065408Z
UID:100966-1666954800-1666962000@www.lsu.lt
SUMMARY:Garbės daktaro regalijų įteikimo A. Saboniui ir V. Makūnui ceremonija
DESCRIPTION:2022 m. spalio 28 d. (penktadienį) 11 val. kviečiame į Lietuvos sporto universiteto Garbės daktaro regalijų įteikimo žymiam krepšininkui Arvydui Saboniui ir Kauno rajono merui Valerijui Makūnui ceremoniją. \nIškilmės vyks Lietuvos sporto universiteto II rūmų Aktų salėje (Sporto g. 6\, Kaunas). \n
URL:https://www.lsu.lt/ivykis/garbes-daktaro-regaliju-iteikimo-a-saboniui-ir-v-makunui-ceremonija/
CATEGORIES:Kita
ATTACH;FMTTYPE=image/jpeg:https://www.lsu.lt/wp-content/uploads/2020/01/Garbės-daktaras_regalijos-e1665039203454.jpg
END:VEVENT
END:VCALENDAR