BEGIN:VCALENDAR
VERSION:2.0
PRODID:-//Lietuvos sporto universitetas - ECPv4.6.10//NONSGML v1.0//EN
CALSCALE:GREGORIAN
METHOD:PUBLISH
X-WR-CALNAME:Lietuvos sporto universitetas
X-ORIGINAL-URL:https://www.lsu.lt
X-WR-CALDESC:Renginiai nuo Lietuvos sporto universitetas
BEGIN:VEVENT
DTSTART;TZID=UTC+2:20221027T153000
DTEND;TZID=UTC+2:20221027T170000
DTSTAMP:20260419T191155
CREATED:20221021T125055Z
LAST-MODIFIED:20221024T124905Z
UID:101218-1666884600-1666890000@www.lsu.lt
SUMMARY:Paskaita LSU bendruomenei „Socialinių mokslų tyrimų etika“
DESCRIPTION:Spalio 27 d. (ketvirtadienį) 15:30 val. Centrinių rūmų 232 aud. prof. dr. Saulius Šukys ves paskaitą „Socialinių mokslų tyrimų etika“ LSU dėstytojams\, mokslininkams\, doktorantams\, studentams. \nRegistracijos forma: https://forms.office.com/r/ffGAeX4yHN \n  \nBus galimybė paskaitą stebėti ir nuotoliniu būdu per Teams. \n
URL:https://www.lsu.lt/ivykis/paskaita-lsu-bendruomenei-socialiniu-mokslu-tyrimu-etika/
CATEGORIES:Paskaita
ATTACH;FMTTYPE=image/jpeg:https://www.lsu.lt/wp-content/uploads/2022/01/LSU-Senatas-scaled-e1651757255395.jpg
END:VEVENT
END:VCALENDAR