BEGIN:VCALENDAR
VERSION:2.0
PRODID:-//Lietuvos sporto universitetas - ECPv4.6.10//NONSGML v1.0//EN
CALSCALE:GREGORIAN
METHOD:PUBLISH
X-WR-CALNAME:Lietuvos sporto universitetas
X-ORIGINAL-URL:https://www.lsu.lt
X-WR-CALDESC:Renginiai nuo Lietuvos sporto universitetas
BEGIN:VEVENT
DTSTART;TZID=UTC+2:20221021T190000
DTEND;TZID=UTC+2:20221021T210000
DTSTAMP:20260420T054204
CREATED:20221012T102338Z
LAST-MODIFIED:20221013T092238Z
UID:101052-1666378800-1666386000@www.lsu.lt
SUMMARY:„United punch“ bokso mačas „Old town barbers“ taurei laimėti
DESCRIPTION:\n\n\n\n\nBokso mačas tarp Lietuvos ir Ukrainos.\nLietuvos sporto universitetas\, „United Punch“ bokso mačo partneris\, kviečia Jus į renginį „Old town barbers“ taurei laimėti!\nJūsų laukia 10 kovų skirtingose svorio kategorijose.\n\nRenginys vyks spalio 21 d. 19:00 val. Kauno PPC „Akropolis“.\n\n\n\n\n\n
URL:https://www.lsu.lt/ivykis/united-punch-bokso-macas-old-town-barbers-taurei-laimeti/
CATEGORIES:Kita
ATTACH;FMTTYPE=image/jpeg:https://www.lsu.lt/wp-content/uploads/2022/10/My-project1.jpg
END:VEVENT
END:VCALENDAR