BEGIN:VCALENDAR
VERSION:2.0
PRODID:-//Lietuvos sporto universitetas - ECPv4.6.10//NONSGML v1.0//EN
CALSCALE:GREGORIAN
METHOD:PUBLISH
X-WR-CALNAME:Lietuvos sporto universitetas
X-ORIGINAL-URL:https://www.lsu.lt
X-WR-CALDESC:Renginiai nuo Lietuvos sporto universitetas
BEGIN:VEVENT
DTSTART;TZID=UTC+2:20221020T150000
DTEND;TZID=UTC+2:20221020T170000
DTSTAMP:20260420T071900
CREATED:20221007T115609Z
LAST-MODIFIED:20221013T092454Z
UID:100999-1666278000-1666285200@www.lsu.lt
SUMMARY:Paskaita „Biomedicininių tyrimų etika“ LSU mokslininkams\, dėstytojams
DESCRIPTION:Spalio 20 d. 15:00 val.  Centrinių rūmų 215 aud. vyks paskaita „Biomedicininių tyrimų etika“ LSU mokslininkams\, dėstytojams. \nLektorius – LSMU doc. dr. Gintautas Gumbrevičius. \n
URL:https://www.lsu.lt/ivykis/paskaita-biomedicininiu-tyrimu-etika/
CATEGORIES:Paskaita
ATTACH;FMTTYPE=image/jpeg:https://www.lsu.lt/wp-content/uploads/2022/09/9Y5A2496-scaled-e1663065967463.jpg
END:VEVENT
END:VCALENDAR