BEGIN:VCALENDAR
VERSION:2.0
PRODID:-//Lietuvos sporto universitetas - ECPv4.6.10//NONSGML v1.0//EN
CALSCALE:GREGORIAN
METHOD:PUBLISH
X-WR-CALNAME:Lietuvos sporto universitetas
X-ORIGINAL-URL:https://www.lsu.lt
X-WR-CALDESC:Renginiai nuo Lietuvos sporto universitetas
BEGIN:VEVENT
DTSTART;TZID=UTC+2:20221017T143000
DTEND;TZID=UTC+2:20221017T153000
DTSTAMP:20260422T103954
CREATED:20221003T125316Z
LAST-MODIFIED:20221010T124839Z
UID:100899-1666017000-1666020600@www.lsu.lt
SUMMARY:LSU bendruomenei – atvira motyvacinė paskaita „Homo Sapiens gyvensenos lūžio taškas ir sprendimai“
DESCRIPTION:Spalio 17 d. (pirmadienį) 14:30–15:30 val. LSU bendruomenę (studentus\, dėstytojus\, mokslininkus\, administracijos atstovus) kviečiame į atvirą motyvacinę paskaitą „Homo Sapiens gyvensenos lūžio taškas ir sprendimai“\, kurią ves docentė dr. Simona Pajaujienė.\nPaskaita vyks LSU II rūmų Aktų salėje. \nRegistracijos forma: https://forms.office.com/r/FfWQF5tvkB \nVisi žinome\, kad gyvename pernelyg nesveikai su visomis iš to išplaukiančiomis pasekmėmis. Per mažai judame\, per daug ir nesveikai valgome\, sunkiai susitvarkome su kasdienio streso pertekliumi\, todėl pasekmės pražūtingos. Kur prasidėjo mūsų nesveika gyvensena\, kas tai lėme ir ar galima pasukti šią bangą atgal? Kaip žinoti\, kuriose srityse svarbiausia pradėti savo gyvensenos pokyčius? \nAteikite\, sužinokite ir pradėkite pokyčius savyje ir savo aplinkoje! \n
URL:https://www.lsu.lt/ivykis/lsu-bendruomenei-atvira-motyvacine-paskaita-homo-sapiens-gyvensenos-luzio-taskas-ir-sprendimai/
ATTACH;FMTTYPE=image/jpeg:https://www.lsu.lt/wp-content/uploads/2022/10/Azuolyne-scaled-e1664801590542.jpg
END:VEVENT
END:VCALENDAR