BEGIN:VCALENDAR
VERSION:2.0
PRODID:-//Lietuvos sporto universitetas - ECPv4.6.10//NONSGML v1.0//EN
CALSCALE:GREGORIAN
METHOD:PUBLISH
X-WR-CALNAME:Lietuvos sporto universitetas
X-ORIGINAL-URL:https://www.lsu.lt
X-WR-CALDESC:Renginiai Lietuvos sporto universitetas
BEGIN:VEVENT
DTSTART;TZID=UTC+2:20221010T143000
DTEND;TZID=UTC+2:20221010T153000
DTSTAMP:20260421T000116
CREATED:20221005T144852Z
LAST-MODIFIED:20221005T144852Z
UID:100953-1665412200-1665415800@www.lsu.lt
SUMMARY:Prof. dr. B. Antala paskaita „FIEPS and its 100 years services for physical education in the world“
DESCRIPTION:Spalio 10 d. (pirmadienį) 14.30–15.30 val. Centrinių rūmų 232 auditorijoje prof. dr. Branislav Antala iš Komenius universiteto (Slovakija)\, Pasaulio tarptautinės fizinio ugdymo ir sporto federacijos (FIEPS WORLD) viceprezidentas\, skaitys paskaitą „FIEPS and its 100 years services for physical education in the world“. \n
URL:https://www.lsu.lt/ivykis/prof-dr-b-antala-paskaita-fieps-and-its-100-years-services-for-physical-education-in-the-world/
CATEGORIES:Paskaita
ATTACH;FMTTYPE=image/jpeg:https://www.lsu.lt/wp-content/uploads/2022/01/Begimas-e1664981325920.jpg
END:VEVENT
END:VCALENDAR