BEGIN:VCALENDAR
VERSION:2.0
PRODID:-//Lietuvos sporto universitetas - ECPv4.6.10//NONSGML v1.0//EN
CALSCALE:GREGORIAN
METHOD:PUBLISH
X-WR-CALNAME:Lietuvos sporto universitetas
X-ORIGINAL-URL:https://www.lsu.lt
X-WR-CALDESC:Renginiai Lietuvos sporto universitetas
BEGIN:VEVENT
DTSTART;TZID=UTC+2:20221005T153000
DTEND;TZID=UTC+2:20221005T160000
DTSTAMP:20260421T070912
CREATED:20221004T115805Z
LAST-MODIFIED:20221004T115805Z
UID:100939-1664983800-1664985600@www.lsu.lt
SUMMARY:Įvadinė paskaita I kurso ištęstinių studijų studentams
DESCRIPTION:2022 m. spalio 5 d. (trečiadienį)  15.30–16.00 val.  Centrinių rūmų 215  auditorijoje vyks Įvadinė paskaita I kurso ištęstinių studijų studentams.\nStudentai susipažins su studijų programų direktoriais ir tutoriais\, Studentų atstovybės nariais. Aktualia informacija pasidalys Informacinių technologijų skyriaus\, Studijų departamento ir bibliotekos atstovai. \n\n
URL:https://www.lsu.lt/ivykis/ivadine-paskaita-i-kurso-istestiniu-studiju-studentams/
CATEGORIES:Paskaita
ATTACH;FMTTYPE=image/jpeg:https://www.lsu.lt/wp-content/uploads/2022/01/IMG_0713-scaled-e1664884678139.jpg
END:VEVENT
BEGIN:VEVENT
DTSTART;TZID=UTC+2:20221005T160000
DTEND;TZID=UTC+2:20221005T170000
DTSTAMP:20260421T070912
CREATED:20220930T125253Z
LAST-MODIFIED:20220930T125434Z
UID:100831-1664985600-1664989200@www.lsu.lt
SUMMARY:Europos vyrų krepšinio čempionato aptarimas-diskusija
DESCRIPTION:Spalio 5 d. (trečiadienį) 16 val. Centrinių rūmų 232 aud. vyks 2022 metų Europos vyrų krepšinio čempionato aptarimas-diskusija. \nJoje dalyvaus LSU krepšinio studijų ir mokslo centro vadovas Ramūnas Butautas ir Lietuvos rinktinės treneris Kęstutis Kemzūra. Diskusijos dalyviai mielai atsakys ir į Jūsų klausimus. \nKviečiame dalyvauti! \n
URL:https://www.lsu.lt/ivykis/100831/
CATEGORIES:Kita
ATTACH;FMTTYPE=image/jpeg:https://www.lsu.lt/wp-content/uploads/2022/09/Krepsys-scaled.jpg
END:VEVENT
END:VCALENDAR