BEGIN:VCALENDAR
VERSION:2.0
PRODID:-//Lietuvos sporto universitetas - ECPv4.6.10//NONSGML v1.0//EN
CALSCALE:GREGORIAN
METHOD:PUBLISH
X-WR-CALNAME:Lietuvos sporto universitetas
X-ORIGINAL-URL:https://www.lsu.lt
X-WR-CALDESC:Renginiai nuo Lietuvos sporto universitetas
BEGIN:VEVENT
DTSTART;TZID=UTC+2:20220927T113000
DTEND;TZID=UTC+2:20220927T123000
DTSTAMP:20260421T185605
CREATED:20220922T074510Z
LAST-MODIFIED:20220922T095721Z
UID:100645-1664278200-1664281800@www.lsu.lt
SUMMARY:LSU masinis šokis
DESCRIPTION:Europos sporto savaitė – jau aštuntus metus Europos Komisijos vykdoma iniciatyva\,\npropaguojanti sportą ir fizinį aktyvumą Europoje. Tai europietiška iniciatyva su visoje Europoje vykstančiais renginiais. Nepriklausomai nuo amžiaus ir sportinės patirties kviečiame jungtis visas Kauno ir Kauno r. mokymo įstaigas. Muziką ir šokį sukūrė #BEACTIVE – JUDĖK ŠOKIO RITMU 2022 organizatoriai. \n2022 m. rugsėjo 27 d. (antradienis) nuo 11:30–12:30 val. LFF Kauno treniruočių centras\, Aukštaičių g. 51* \nRegistracija į masinį šokį (grupės).\nRegistracija į masinį šokį (pavieniai asmenys).\nDaugiau informacijos ar kilus klausimams kreiptis el. p. karolina.deliautaite@lsu.lt\nMarškinėliai suteikiami pirmiems 400 užsiregistravusių. \nRenginio nuostatai pateikti čia.\n*pasikeitus vietai arba laikui būsite informuoti sporto centro FB puslapyje ir nurodytu el.paštu. \n
URL:https://www.lsu.lt/ivykis/su-masinis-sokis/
CATEGORIES:Varžybos
ATTACH;FMTTYPE=image/jpeg:https://www.lsu.lt/wp-content/uploads/2022/09/My-project-3.jpg
END:VEVENT
END:VCALENDAR