BEGIN:VCALENDAR
VERSION:2.0
PRODID:-//Lietuvos sporto universitetas - ECPv4.6.10//NONSGML v1.0//EN
CALSCALE:GREGORIAN
METHOD:PUBLISH
X-WR-CALNAME:Lietuvos sporto universitetas
X-ORIGINAL-URL:https://www.lsu.lt
X-WR-CALDESC:Renginiai nuo Lietuvos sporto universitetas
BEGIN:VEVENT
DTSTART;TZID=UTC+2:20220922T153000
DTEND;TZID=UTC+2:20220922T163000
DTSTAMP:20260422T025437
CREATED:20220913T140430Z
LAST-MODIFIED:20220913T140557Z
UID:100522-1663860600-1663864200@www.lsu.lt
SUMMARY:„Erasmus+“ seminaras studentams
DESCRIPTION:Sveiki\, LSU pirmakursiai\,\nrugsėjo 22 d. (ketvirtadienį) 15.30 val. maloniai kviečiame dalyvauti seminare ir susipažinti su „Erasmus+“ programos galimybėmis studentams! Seminaras vyks Centrinių rūmų 215 aud.\nŽinoma\, dalyvauti gali visi besidomintieji „Erasmus+“ programa.\nPer seminarą pakalbėsime apie studijų ir praktikos galimybes užsienyje bei išgirsite praktinių patarimų iš programoje jau dalyvavusių studentų. \nGalbūt jau susipažinote su „Erasmus+“ programa mokykloje\, tačiau Universitete galimybės skiriasi\, todėl nedvejokite dalyvauti seminare. \nLauksime! \n  \n
URL:https://www.lsu.lt/ivykis/erasmus-seminaras-studentams-2/
ATTACH;FMTTYPE=image/png:https://www.lsu.lt/wp-content/uploads/2022/09/Erasmus-1.png
END:VEVENT
END:VCALENDAR