BEGIN:VCALENDAR
VERSION:2.0
PRODID:-//Lietuvos sporto universitetas - ECPv4.6.10//NONSGML v1.0//EN
CALSCALE:GREGORIAN
METHOD:PUBLISH
X-WR-CALNAME:Lietuvos sporto universitetas
X-ORIGINAL-URL:https://www.lsu.lt
X-WR-CALDESC:Renginiai nuo Lietuvos sporto universitetas
BEGIN:VEVENT
DTSTART;TZID=UTC+2:20220912T143000
DTEND;TZID=UTC+2:20220912T143000
DTSTAMP:20260422T183944
CREATED:20220912T110936Z
LAST-MODIFIED:20220912T111620Z
UID:100485-1662993000-1662993000@www.lsu.lt
SUMMARY:Futbolo treniruotės su T.Miliausku
DESCRIPTION:Kviečiame į futbolo treniruotes!\n\nTreniruotės vyks treniruotes rugsėjo 12 -13 dienomis NFA aikštyne (Aukštaičių g. 51)\nPradžia: 14:30val.\nTreneris: Tomas Miliauskas\n\nJeigu turite klausimų kreipkitės: tomasmiliauskas12@gmail.com\n
URL:https://www.lsu.lt/ivykis/futbolo-treniruotes-su-t-miliausku/
CATEGORIES:Varžybos
ATTACH;FMTTYPE=image/jpeg:https://www.lsu.lt/wp-content/uploads/2022/09/My-project-2.jpg
END:VEVENT
END:VCALENDAR