BEGIN:VCALENDAR
VERSION:2.0
PRODID:-//Lietuvos sporto universitetas - ECPv4.6.10//NONSGML v1.0//EN
CALSCALE:GREGORIAN
METHOD:PUBLISH
X-WR-CALNAME:Lietuvos sporto universitetas
X-ORIGINAL-URL:https://www.lsu.lt
X-WR-CALDESC:Renginiai nuo Lietuvos sporto universitetas
BEGIN:VEVENT
DTSTART;TZID=UTC+2:20220907T140000
DTEND;TZID=UTC+2:20220907T153000
DTSTAMP:20260423T013627
CREATED:20220906T075023Z
LAST-MODIFIED:20220906T075046Z
UID:100299-1662559200-1662564600@www.lsu.lt
SUMMARY:Paskaita „Jaunųjų sportininkų psichologinis rengimas“
DESCRIPTION:2022 m. rugsėjo 7 d. (trečiadienį) 14 val. Centrinių rūmų 232 aud. Latvijos sporto akademijos prof. Janis Židans ir docentas Renars Licis skaitys paskaitą „Jaunųjų sportininkų psichologinis rengimas“. \nKviečiame dalyvauti. \n\n
URL:https://www.lsu.lt/ivykis/paskaita-jaunuju-sportininku-psichologinis-rengimas/
CATEGORIES:Paskaita
ATTACH;FMTTYPE=image/jpeg:https://www.lsu.lt/wp-content/uploads/2022/06/SPORTS-COACHING-e1662450618362.jpg
END:VEVENT
END:VCALENDAR