BEGIN:VCALENDAR
VERSION:2.0
PRODID:-//Lietuvos sporto universitetas - ECPv4.6.10//NONSGML v1.0//EN
CALSCALE:GREGORIAN
METHOD:PUBLISH
X-WR-CALNAME:Lietuvos sporto universitetas
X-ORIGINAL-URL:https://www.lsu.lt
X-WR-CALDESC:Renginiai nuo Lietuvos sporto universitetas
BEGIN:VEVENT
DTSTART;TZID=UTC+2:20220829T110000
DTEND;TZID=UTC+2:20220829T120000
DTSTAMP:20260423T144935
CREATED:20220824T112142Z
LAST-MODIFIED:20220824T112330Z
UID:99469-1661770800-1661774400@www.lsu.lt
SUMMARY:Visuotinis LSU bendruomenės susirinkimas
DESCRIPTION:Informuojame\, jog 2022 08 29 d. (pirmadienį) 11:00 val.\,  Aktų salėje (II rūmai) vyks visuotinis susirinkimas. \nMaloniai kviečiame dalyvauti! \n
URL:https://www.lsu.lt/ivykis/visuotinis-lsu-bendruomenes-susirinkimas-3/
ATTACH;FMTTYPE=image/jpeg:https://www.lsu.lt/wp-content/uploads/2022/08/My-project-2.jpg
END:VEVENT
END:VCALENDAR