BEGIN:VCALENDAR
VERSION:2.0
PRODID:-//Lietuvos sporto universitetas - ECPv4.6.10//NONSGML v1.0//EN
CALSCALE:GREGORIAN
METHOD:PUBLISH
X-WR-CALNAME:Lietuvos sporto universitetas
X-ORIGINAL-URL:https://www.lsu.lt
X-WR-CALDESC:Renginiai nuo Lietuvos sporto universitetas
BEGIN:VEVENT
DTSTART;TZID=UTC+2:20220405T130000
DTEND;TZID=UTC+2:20220405T140000
DTSTAMP:20260425T140934
CREATED:20220331T134534Z
LAST-MODIFIED:20220331T134729Z
UID:95877-1649163600-1649167200@www.lsu.lt
SUMMARY:Susitikimas-diskusija su Kauno apskrities priešgaisrinės gelbėjimo valdybos atstovais
DESCRIPTION:2022 m. balandžio 5 d. (antradienį) 13 val. LSU II rūmų  Aktų salėje kviečiame į susitikimą su Kauno apskrities  priešgaisrinės gelbėjimo valdybos\, valstybinės priešgaisrinės gelbėjimo tarnybos civilinės saugos skyriaus viršininku Arvydu Kazlausku ir Kauno apskrities  priešgaisrinės gelbėjimo valdybos\, valstybinės priešgaisrinės gelbėjimo tarnybos civilinės saugos skyriaus vyriausiuoju specialistu Sauliumi Bajerūnu. \nSusitikimo metu kviesime diskutuoti apie gyventojų perspėjimus  ir informavimą apie gresiančią ar susidariusią ekstremaliąją situaciją.  \n
URL:https://www.lsu.lt/ivykis/susitikimas-diskusija-su-kauno-apskrities-priesgaisrines-gelbejimo-valdybos-atstovais/
CATEGORIES:Kita
ATTACH;FMTTYPE=image/jpeg:https://www.lsu.lt/wp-content/uploads/2020/08/lsu123-scaled-e1648734310626.jpg
END:VEVENT
END:VCALENDAR