BEGIN:VCALENDAR
VERSION:2.0
PRODID:-//Lietuvos sporto universitetas - ECPv4.6.10//NONSGML v1.0//EN
CALSCALE:GREGORIAN
METHOD:PUBLISH
X-WR-CALNAME:Lietuvos sporto universitetas
X-ORIGINAL-URL:https://www.lsu.lt
X-WR-CALDESC:Renginiai nuo Lietuvos sporto universitetas
BEGIN:VEVENT
DTSTART;TZID=UTC+2:20220330T150000
DTEND;TZID=UTC+2:20220330T170000
DTSTAMP:20260423T035052
CREATED:20220323T151422Z
LAST-MODIFIED:20220324T080649Z
UID:95549-1648652400-1648659600@www.lsu.lt
SUMMARY:Tarybos posėdis
DESCRIPTION:2022 m. kovo 30 d. (trečiadienį) 15 val. 216 aud. vyks LSU Tarybos posėdis.  \nDarbotvarkė\n1. 2021 m. LSU veiklos ataskaitos svarstymas ir tvirtinimas.\n2. 2021 m. pajamų ir išlaidų sąmatos įvykdymo ataskaitos tvirtinimas.\n3. 2021 m. Tarybos veiklos ataskaitos svarstymas ir tvirtinimas.\n4. Rektorės darbo užmokesčio tvirtinimas (uždaras posėdis).\n5. Einamieji klausimai. \n Kilus klausimams prašome kreiptis el. paštu taryba@lsu.lt \n
URL:https://www.lsu.lt/ivykis/tarybos-posedis/
CATEGORIES:Taryba
ATTACH;FMTTYPE=image/jpeg:https://www.lsu.lt/wp-content/uploads/2018/03/Taryba-3-e1521795735199.jpg
END:VEVENT
END:VCALENDAR