BEGIN:VCALENDAR
VERSION:2.0
PRODID:-//Lietuvos sporto universitetas - ECPv4.6.10//NONSGML v1.0//EN
CALSCALE:GREGORIAN
METHOD:PUBLISH
X-WR-CALNAME:Lietuvos sporto universitetas
X-ORIGINAL-URL:https://www.lsu.lt
X-WR-CALDESC:Renginiai nuo Lietuvos sporto universitetas
BEGIN:VEVENT
DTSTART;TZID=UTC+2:20220329T140000
DTEND;TZID=UTC+2:20220329T160000
DTSTAMP:20260423T023157
CREATED:20220322T074947Z
LAST-MODIFIED:20220323T080110Z
UID:95468-1648562400-1648569600@www.lsu.lt
SUMMARY:Senato posėdis
DESCRIPTION:2022 m. kovo 29 d. (antradienį) 14 val. Centrinių rūmų 218 aud. vyks Senato posėdis. \nDarbotvarkė\n1. Dėl studijų programos „Fizinis aktyvumas ir visuomenės sveikata“ studijų plano projekto svarstymo ir tvirtinimo (doc. dr. K. Poderienė).\n2. Dėl studijų programos „Fizinis ugdymas ir sportasׅ“ studijų plano projekto svarstymo ir tvirtinimo (doc. dr. R. Rutkauskaitė).\n3. Dėl studijų programos „Kineziterapija“ studijų plano projekto svarstymo ir tvirtinimo (doc. dr. V. Dudonienė).\n4. Dėl studijų programos „Pratimai\, mityba ir streso valdymas“ studijų plano projekto svarstymo ir tvirtinimo (dr. K. Motiejūnaitė).\n5. Dėl studijų programos „Sporto ir turizmo vadyba“ studijų plano projekto svarstymo ir tvirtinimo (prof. dr. I. Valantinė).\n6. Dėl studijų programos „Treniravimo sistemos“ studijų plano projekto svarstymo ir tvirtinimo (doc. dr. I. Zuozienė).\n7. Dėl bendrųjų universitetinių studijų modulio „Kritinis mąstymas ir akademinė komunikacija“ aprašo projekto svarstymo ir tvirtinimo (doc. dr. J. Požėrienė).\n8. Dėl bendrųjų universitetinių studijų modulio „Socialinė ir psichologinė gerovė“ aprašo projekto svarstymo ir tvirtinimo (doc. dr. J. Požėrienė).\n9. Dėl mokslo prorektoriaus ataskaitos svarstymo ir tvirtinimo (prof. dr. E. Jasinskas).\n10. Dėl LSU Tarybos kvotų rinkimo procedūrų ir interesų sričių svarstymo ir tvirtinimo (doc. dr. V. Bružas).\n11. Dėl Rektorės ataskaitos svarstymo (prof. dr. D. Rėklaitienė).\n12. Dėl Senato ataskaitos svarstymo ir tvirtinimo (doc. dr. V. Bružas).\n13. Einamieji klausimai. \n
URL:https://www.lsu.lt/ivykis/senato-posedis-7/
CATEGORIES:Senatas
ATTACH;FMTTYPE=image/jpeg:https://www.lsu.lt/wp-content/uploads/2018/08/Senatas-arba-rektoratas-3-e1535369752475.jpg
END:VEVENT
END:VCALENDAR