BEGIN:VCALENDAR
VERSION:2.0
PRODID:-//Lietuvos sporto universitetas - ECPv4.6.10//NONSGML v1.0//EN
CALSCALE:GREGORIAN
METHOD:PUBLISH
X-WR-CALNAME:Lietuvos sporto universitetas
X-ORIGINAL-URL:https://www.lsu.lt
X-WR-CALDESC:Renginiai nuo Lietuvos sporto universitetas
BEGIN:VEVENT
DTSTART;TZID=UTC+2:20220324T103000
DTEND;TZID=UTC+2:20220324T150000
DTSTAMP:20260422T183730
CREATED:20220318T134122Z
LAST-MODIFIED:20220318T141122Z
UID:95393-1648117800-1648134000@www.lsu.lt
SUMMARY:Sportinis-socialinis renginys įvairių tautų kultūrų vaikams
DESCRIPTION:2022 m. kovo 24 d. (ketvirtadienį) Lietuvos sporto universitete vyks „Sportinis-socialinis renginys įvairių tautų kultūrų vaikams“. \nPROGRAMA\n10.30–10.45 val. Atvykimas (Lietuvos sporto universitetas\, Sporto g. 6\, Kaunas)\n11.00–11.10 val. Rektorės sveikinimas (Didžioji sporto salė\, Centriniai rūmai)\n11.10–13.00 val. Judrieji žaidimai (Didžioji sporto salė\, Centriniai rūmai) ir Grupinės sportinės veiklos (III rūmai\, 2 a.\, 204 Sporto salė)\n13.00–14.00 val. Pietūs (kavinė „Atletas“\, bendrabučio patalpose)\n14.00–14.40 val. Masinis šokis (Didžioji sporto salė\, Centriniai rūmai)\n15.00 val. Vykimas namo. \nSVARBU\nŽinoti\, ar vaikams leidžiama dalyvauti sportinėse veiklose.\nTurėti aprangą\, nevaržančią judesių.\nTurėti kitus batelius persiauti veikloms sporto salėje. \nKilus klausimams galite kreiptis į\nAidą tel. +370 68634704\, el. p. aida.gaizauskiene@lsu.lt\nVidą tel. +37069009917\, el. p. vida.ostaseviciene@lsu.lt\nIreną tel. +37069009912\, el. p. irena.cikotiene@lsu.lt \n \n
URL:https://www.lsu.lt/ivykis/sportinis-socialinis-renginys-ivairiu-tautu-kulturu-vaikams/
CATEGORIES:Kita
ATTACH;FMTTYPE=image/jpeg:https://www.lsu.lt/wp-content/uploads/2020/02/Sujetos-straipsniui-e1647611940325.jpg
END:VEVENT
BEGIN:VEVENT
DTSTART;TZID=UTC+2:20220324T110000
DTEND;TZID=UTC+2:20220324T130000
DTSTAMP:20260422T183730
CREATED:20220308T131803Z
LAST-MODIFIED:20220315T082406Z
UID:95207-1648119600-1648126800@www.lsu.lt
SUMMARY:Sporto renginys LSU bendruomenei
DESCRIPTION:Studentus\, dėstytojus\, administracijos darbuotojus – sportuojančius ir nesportuojančius – kviečiame į Sporto renginį LSU bendruomenei\, kuris vyks 2022 m. kovo 22 ir 24 dienomis III rūmuose (Perkūno al. 3a). \nŠiame renginyje gali dalyvauti tik tam tikras žmonių skaičius\, todėl norinčiuosius dalyvauti kviečiame užpildyti registracijos formą: https://forms.gle/ddcwzhyGBhdzed3T7 \nSporto renginį LSU bendruomenei remia maisto papildų parduotuvė Mr. Biceps.lt\, Sporto namai \n \n
URL:https://www.lsu.lt/ivykis/sporto-renginys-lsu-bendruomenei-2/
ATTACH;FMTTYPE=image/jpeg:https://www.lsu.lt/wp-content/uploads/2021/04/88101522_2480001112105422_1445970473287417856_n-e1619431357908.jpg
END:VEVENT
END:VCALENDAR