BEGIN:VCALENDAR
VERSION:2.0
PRODID:-//Lietuvos sporto universitetas - ECPv4.6.10//NONSGML v1.0//EN
CALSCALE:GREGORIAN
METHOD:PUBLISH
X-WR-CALNAME:Lietuvos sporto universitetas
X-ORIGINAL-URL:https://www.lsu.lt
X-WR-CALDESC:Renginiai nuo Lietuvos sporto universitetas
BEGIN:VEVENT
DTSTART;TZID=UTC+2:20220322T110000
DTEND;TZID=UTC+2:20220322T130000
DTSTAMP:20260422T155228
CREATED:20220308T131302Z
LAST-MODIFIED:20220323T080209Z
UID:95162-1647946800-1647954000@www.lsu.lt
SUMMARY:Sporto renginys LSU bendruomenei
DESCRIPTION:Studentus\, dėstytojus\, administracijos darbuotojus – sportuojančius ir nesportuojančius – kviečiame į Sporto renginį LSU bendruomenei\, kuris vyks 2022 m. kovo 22 ir 24 dienomis III rūmuose (Perkūno al. 3a). \nŠiame renginyje gali dalyvauti tik tam tikras žmonių skaičius\, todėl norinčiuosius dalyvauti kviečiame užpildyti registracijos formą: https://forms.gle/ddcwzhyGBhdzed3T7 \nSporto renginį LSU bendruomenei remia maisto papildų parduotuvė Mr. Biceps.lt\, Sporto namai \n \n
URL:https://www.lsu.lt/ivykis/sporto-renginys-lsu-bendruomenei/
CATEGORIES:Kita
ATTACH;FMTTYPE=image/jpeg:https://www.lsu.lt/wp-content/uploads/2022/03/Armenas-scaled-e1646745163886.jpg
END:VEVENT
END:VCALENDAR